BEGIN:VCALENDAR
VERSION:2.0
PRODID:-//Tukios.com/
BEGIN:VEVENT
UID:60602434-a36e-4dc7-a6b6-717652604d17@www.brennanmathenafh.com
DTSTAMP:20260422T024458Z
DTSTART:20260424T050000Z
DTEND:20260424T160000Z
SUMMARY:Interment
DESCRIPTION:
URL:https://www.brennanmathenafh.com/obituaries/david-boyden-sr
LOCATION: 801 SW Westchester Rd  Topeka KS 66606
GEO:39.0546385;-95.7367905
END:VEVENT
END:VCALENDAR