BEGIN:VCALENDAR
VERSION:2.0
PRODID:-//Tukios.com/
BEGIN:VEVENT
UID:258569e1-e2bc-4b72-9a64-b3cc1d4ae647@www.brennanmathenafh.com
DTSTAMP:20260422T023946Z
DTSTART:20260423T230000Z
DTEND:20260424T000000Z
SUMMARY:Rosary
DESCRIPTION:
URL:https://www.brennanmathenafh.com/obituaries/david-boyden-sr
LOCATION: 800 SW 6th Avenue  Topeka KS 66603
GEO:39.054784;-95.6836032
END:VEVENT
END:VCALENDAR