BEGIN:VCALENDAR
VERSION:2.0
PRODID:-//Tukios.com/
BEGIN:VEVENT
UID:39f2a7be-e06d-4414-bb34-e63d372793b5@www.brennanmathenafh.com
DTSTAMP:20260422T023823Z
DTSTART:20260424T150000Z
DTEND:20260424T160000Z
SUMMARY:Mass of Christian Burial
DESCRIPTION:
URL:https://www.brennanmathenafh.com/obituaries/david-boyden-sr
LOCATION: 227 SW Van Buren St  Topeka KS 66603
GEO:39.0571756;-95.6745154
END:VEVENT
END:VCALENDAR