BEGIN:VCALENDAR
VERSION:2.0
PRODID:-//Tukios.com/
BEGIN:VEVENT
UID:618cbbb7-9353-4892-b73b-8d72ab22a836@www.brennanmathenafh.com
DTSTAMP:20260422T023946Z
DTSTART:20260423T230000Z
DTEND:20260424T010000Z
SUMMARY:Visitation
DESCRIPTION:
URL:https://www.brennanmathenafh.com/obituaries/david-boyden-sr
LOCATION: 800 SW 6th Ave  Topeka KS 66603
GEO:39.0547839;-95.6836398
END:VEVENT
END:VCALENDAR