BEGIN:VCALENDAR
VERSION:2.0
PRODID:-//Tukios.com/
BEGIN:VEVENT
UID:04586416-6455-4f15-98c8-0d203a1dac70@www.brennanmathenafh.com
DTSTAMP:20260420T205154Z
DTSTART:20260424T160000Z
DTEND:20260424T170000Z
SUMMARY:Memorial Mass of Christian Burial
DESCRIPTION:
URL:https://www.brennanmathenafh.com/obituaries/danielle-anguish
LOCATION: 201 NE Chandler St  Topeka KS 66616
GEO:39.0570754;-95.6565173
END:VEVENT
END:VCALENDAR