BEGIN:VCALENDAR
VERSION:2.0
PRODID:-//Tukios.com/
BEGIN:VEVENT
UID:dbf6d58e-ce21-4ff0-8147-710c7fe5359f@www.brennanmathenafh.com
DTSTAMP:20260420T205006Z
DTSTART:20260424T153000Z
DTEND:20260424T160000Z
SUMMARY:Parish Rosary
DESCRIPTION:
URL:https://www.brennanmathenafh.com/obituaries/danielle-anguish
LOCATION: 201 NE Chandler St  Topeka KS 66616
GEO:39.0570754;-95.6565173
END:VEVENT
END:VCALENDAR