BEGIN:VCALENDAR
VERSION:2.0
PRODID:-//Tukios.com/
BEGIN:VEVENT
UID:91b5d3d7-4c0f-450e-9b54-11dcf94a216d@www.brennanmathenafh.com
DTSTAMP:20260420T204819Z
DTSTART:20260424T140000Z
DTEND:20260424T153000Z
SUMMARY:Memorial Visitation
DESCRIPTION:
URL:https://www.brennanmathenafh.com/obituaries/danielle-anguish
LOCATION: 201 NE Chandler St  Topeka KS 66616
GEO:39.0570754;-95.6565173
END:VEVENT
END:VCALENDAR